BEGIN:VCALENDAR
VERSION:2.0
PRODID:spatie/icalendar-generator
DESCRIPTION:Veranstaltungen von Freundeskreis Museum Villa Stahmer e.V.
X-WR-CALDESC:Veranstaltungen von Freundeskreis Museum Villa Stahmer e.V.
REFRESH-INTERVAL;VALUE=DURATION:PT1440M
X-PUBLISHED-TTL:PT1440M
BEGIN:VTIMEZONE
TZID:Etc/GMT+0
BEGIN:STANDARD
DTSTART:20250723T190000Z
TZOFFSETFROM:+0000
TZOFFSETTO:+0000
END:STANDARD
END:VTIMEZONE
BEGIN:VTIMEZONE
TZID:UTC
BEGIN:STANDARD
DTSTART:20250723T130129Z
TZOFFSETFROM:+0000
TZOFFSETTO:+0000
END:STANDARD
END:VTIMEZONE
BEGIN:VEVENT
UID:21-21
DTSTAMP:20260419T130129Z
SUMMARY:Wiebke Schröder Trio
LOCATION:
ORGANIZER;CN=g:MAILTO:horst-gunther@veldten.eu
DTSTART;TZID=Etc/GMT+0:20260419T190000
DTEND;TZID=Etc/GMT+0:20260419T200000
X-ALT-DESC;FMTTYPE=TEXT/HTML:Wiebke Schröder Trio in der Villa Stahmer &amp;nb
 sp\; &amp;nbsp\; Mit dem neuen Album „Tales Untold“ (Hey!Jazz) dringt das 
 Wiebke Schröder Trio in neue Klanggefilde vor\, ohne ihrem tiefgründigen
  Bandsound untreu zu werden. Wiebke Schröder (Piano/ Composition)\, Silas
  Jakob (Drums) und Michael Bohn (double Bass) präsentieren sowohl jüngst
  entstandene als auch schon länger schlummernde Kompositionen ihres&amp;helli
 p\;
CATEGORIES:General
URL;VALUE=URI:https://fk-villastahmer.de/?mc-events=wiebke-schroeder-trio
METHOD:PUBLISH
END:VEVENT
END:VCALENDAR