BEGIN:VCALENDAR
VERSION:2.0
PRODID:spatie/icalendar-generator
DESCRIPTION:Veranstaltungen von Freundeskreis Museum Villa Stahmer e.V.
X-WR-CALDESC:Veranstaltungen von Freundeskreis Museum Villa Stahmer e.V.
REFRESH-INTERVAL;VALUE=DURATION:PT1440M
X-PUBLISHED-TTL:PT1440M
BEGIN:VTIMEZONE
TZID:Etc/GMT+0
BEGIN:STANDARD
DTSTART:20250217T190000Z
TZOFFSETFROM:+0000
TZOFFSETTO:+0000
END:STANDARD
END:VTIMEZONE
BEGIN:VTIMEZONE
TZID:UTC
BEGIN:STANDARD
DTSTART:20250729T132419Z
TZOFFSETFROM:+0000
TZOFFSETTO:+0000
END:STANDARD
END:VTIMEZONE
BEGIN:VEVENT
UID:16-16
DTSTAMP:20260425T132419Z
SUMMARY:Perlentauchen
LOCATION:
ORGANIZER;CN=g:MAILTO:horst-gunther@veldten.eu
DTSTART;TZID=Etc/GMT+0:20251114T190000
DTEND;TZID=Etc/GMT+0:20251114T200000
X-ALT-DESC;FMTTYPE=TEXT/HTML:Konzertabend der Konzertreihe „Klassik Grenz
 enlos“ „PERLENTAUCHEN“  in den Weiten der Kammermusik   Franziska 
 Hahn-Majersky\, Violine Michal Majersky\, Violine André Wickel\, Klavier 
 Freitag\, 14.11.2025\, 19 Uhr                      
                                      
   &amp;nbsp\; Die zwei Violinisten Franziska Hahn-Majersky\, Michal Majersky 
 und der Pianist André Wickel  bergen in diesem Konzertabend Schätze vom
  Grund des musikalischen Ozeans der  Kammermusik. Das Trio hat in den&amp;hel
 lip\;
CATEGORIES:General
URL;VALUE=URI:https://fk-villastahmer.de/?mc-events=perlentauchen
METHOD:PUBLISH
END:VEVENT
END:VCALENDAR