BEGIN:VCALENDAR
VERSION:2.0
PRODID:spatie/icalendar-generator
DESCRIPTION:Veranstaltungen von Freundeskreis Museum Villa Stahmer e.V.
X-WR-CALDESC:Veranstaltungen von Freundeskreis Museum Villa Stahmer e.V.
REFRESH-INTERVAL;VALUE=DURATION:PT1440M
X-PUBLISHED-TTL:PT1440M
BEGIN:VTIMEZONE
TZID:Etc/GMT+0
BEGIN:STANDARD
DTSTART:20241028T190000Z
TZOFFSETFROM:+0000
TZOFFSETTO:+0000
END:STANDARD
END:VTIMEZONE
BEGIN:VTIMEZONE
TZID:UTC
BEGIN:STANDARD
DTSTART:20250729T174338Z
TZOFFSETFROM:+0000
TZOFFSETTO:+0000
END:STANDARD
END:VTIMEZONE
BEGIN:VEVENT
UID:12-12
DTSTAMP:20260425T174338Z
SUMMARY:Lieder an einem Sommerabend
LOCATION:
ORGANIZER;CN=g:MAILTO:horst-gunther@veldten.eu
DTSTART;TZID=Etc/GMT+0:20250725T190000
DTEND;TZID=Etc/GMT+0:20250725T200000
X-ALT-DESC;FMTTYPE=TEXT/HTML:Open-Air-Konzert „Lieder an einem Sommeraben
 d“    Rudolf Engelbrecht\, Gitarre und Gesang &amp;nbsp\; Ausgehend von De
 utschland führt die musikalische Reise in unsere europäischen Nachbarlä
 nder. Höhepunkte dabei sind sicherlich ein Medley von italienischen Klass
 ikern und ein englischsprachiges Medley aus den 20er Jahren. All diese Lie
 der laden auch zum Mitsingen ein. Darüber hinaus gehen wir gemeinsam mit 
 Harry&amp;hellip\;
CATEGORIES:General
URL;VALUE=URI:https://fk-villastahmer.de/?mc-events=lieder-an-einem-sommera
 bend-2
METHOD:PUBLISH
END:VEVENT
END:VCALENDAR