BEGIN:VCALENDAR
VERSION:2.0
PRODID:spatie/icalendar-generator
DESCRIPTION:Veranstaltungen von Freundeskreis Museum Villa Stahmer e.V.
X-WR-CALDESC:Veranstaltungen von Freundeskreis Museum Villa Stahmer e.V.
REFRESH-INTERVAL;VALUE=DURATION:PT1440M
X-PUBLISHED-TTL:PT1440M
BEGIN:VTIMEZONE
TZID:Etc/GMT+0
BEGIN:STANDARD
DTSTART:20231127T190000Z
TZOFFSETFROM:+0000
TZOFFSETTO:+0000
END:STANDARD
END:VTIMEZONE
BEGIN:VTIMEZONE
TZID:UTC
BEGIN:STANDARD
DTSTART:20250725T005427Z
TZOFFSETFROM:+0000
TZOFFSETTO:+0000
END:STANDARD
END:VTIMEZONE
BEGIN:VEVENT
UID:6-6
DTSTAMP:20260421T005427Z
SUMMARY:The BluesDefenders
LOCATION:
ORGANIZER;CN=g:MAILTO:horst-gunther@veldten.eu
DTSTART;TZID=Etc/GMT+0:20240823T190000
DTEND;TZID=Etc/GMT+0:20240823T200000
X-ALT-DESC;FMTTYPE=TEXT/HTML:Open-Air-Konzert  „The BluesDefenders“ Di
 e Band „The BluesDefenders“ formierte sich Anfang 2002 aus Musikern\, 
 die sich allesamt dem Blues der 50er und 60er Jahre verschrieben haben. &amp;n
 bsp\; Klassischer Blues „from Texas to Chicago“ bestimmt seit nunmehr 
 20 Jahren den Sound der Band. Stilistisch wird diese Mischung angereichert
  mit einer Portion Rock´n Roll. &amp;nbsp\; Die Stammbesetzung der&amp;hellip\;
CATEGORIES:General
URL;VALUE=URI:http://fk-villastahmer.de/?mc-events=the-bluesdefenders
METHOD:PUBLISH
END:VEVENT
END:VCALENDAR