BEGIN:VCALENDAR
VERSION:2.0
PRODID:spatie/icalendar-generator
DESCRIPTION:Veranstaltungen von Freundeskreis Museum Villa Stahmer e.V.
X-WR-CALDESC:Veranstaltungen von Freundeskreis Museum Villa Stahmer e.V.
REFRESH-INTERVAL;VALUE=DURATION:PT1440M
X-PUBLISHED-TTL:PT1440M
BEGIN:VTIMEZONE
TZID:Etc/GMT+0
BEGIN:STANDARD
DTSTART:20231218T190000Z
TZOFFSETFROM:+0000
TZOFFSETTO:+0000
END:STANDARD
END:VTIMEZONE
BEGIN:VTIMEZONE
TZID:UTC
BEGIN:STANDARD
DTSTART:20250724T233527Z
TZOFFSETFROM:+0000
TZOFFSETTO:+0000
END:STANDARD
END:VTIMEZONE
BEGIN:VEVENT
UID:7-7
DTSTAMP:20260420T233527Z
SUMMARY:Soirée de Piano de Raphael et Martin 
LOCATION:
ORGANIZER;CN=g:MAILTO:horst-gunther@veldten.eu
DTSTART;TZID=Etc/GMT+0:20240913T190000
DTEND;TZID=Etc/GMT+0:20240913T200000
X-ALT-DESC;FMTTYPE=TEXT/HTML:Klassik grenzenlos        Soirée de Pian
 o de Raphael et Martin    Konzert zweier junger Nachwuchspianisten aus F
 rankreich mit Raphael Collard und Martin Jaspard.  Beide stammen aus der 
 Region Angers\, der Partnerstadt von Osnabrück und studieren zurzeit am 
 „CNSMDP“ (Conservatoire National Supérieur de Musique et de Danse de 
 Paris)\, der wichtigsten Musikhochschule unseres Nachbarlandes Frankreich.
 &amp;hellip\;
CATEGORIES:General
URL;VALUE=URI:http://fk-villastahmer.de/?mc-events=soiree-de-piano-de-rapha
 el-et-martin
METHOD:PUBLISH
END:VEVENT
END:VCALENDAR