BEGIN:VCALENDAR
VERSION:2.0
PRODID:spatie/icalendar-generator
DESCRIPTION:Veranstaltungen von Freundeskreis Museum Villa Stahmer e.V.
X-WR-CALDESC:Veranstaltungen von Freundeskreis Museum Villa Stahmer e.V.
REFRESH-INTERVAL;VALUE=DURATION:PT1440M
X-PUBLISHED-TTL:PT1440M
BEGIN:VTIMEZONE
TZID:Etc/GMT+0
BEGIN:STANDARD
DTSTART:20231023T190000Z
TZOFFSETFROM:+0000
TZOFFSETTO:+0000
END:STANDARD
END:VTIMEZONE
BEGIN:VTIMEZONE
TZID:UTC
BEGIN:STANDARD
DTSTART:20250725T021935Z
TZOFFSETFROM:+0000
TZOFFSETTO:+0000
END:STANDARD
END:VTIMEZONE
BEGIN:VEVENT
UID:4-4
DTSTAMP:20260421T021935Z
SUMMARY:Lieder an einem Sommerabend
LOCATION:
ORGANIZER;CN=g:MAILTO:horst-gunther@veldten.eu
DTSTART;TZID=Etc/GMT+0:20240719T190000
DTEND;TZID=Etc/GMT+0:20240719T200000
X-ALT-DESC;FMTTYPE=TEXT/HTML:Open-Air-Konzert „Lieder an einem Sommeraben
 d“    Rudolf Engelbrecht\, Gitarre und Gesang &amp;nbsp\; Freitag\, 19. Ju
 li 2024\, 19 Uhr &amp;nbsp\; &amp;nbsp\; Das Konzert findet kurz nach den Europawa
 hlen statt. Ausgehend von Deutschland führt deshalb unsere musikalische R
 eise in unsere europäischen Nachbarländer. Höhepunkte dabei sind sicher
 lich ein Medley von italienischen Klassikern und ein englischsprachiges Me
 dley aus den&amp;hellip\;
CATEGORIES:General
URL;VALUE=URI:http://fk-villastahmer.de/?mc-events=lieder-an-einem-sommerab
 end
METHOD:PUBLISH
END:VEVENT
END:VCALENDAR